BEGIN:VCALENDAR
VERSION:2.0
PRODID:-//swoogo.com//NONSGML kigkonsult.se iCalcreator 2.41.90//
CALSCALE:GREGORIAN
UID:35333338-3366-4163-a139-633932366430
BEGIN:VEVENT
UID:c1e63f4d76b646972b2e75c395e1007733b1f31b@swoogo.com
DTSTAMP:20260424T203506Z
DESCRIPTION:The Shipping Risk Management Europe conference is conceived as 
 a one-day\, high-level forum bringing together risk managers\, insurance b
 uyers\, insurers\, brokers and legal/technical specialists in the marine s
 ector.
DTSTART:20261119T090000Z
DTEND:20261119T170000Z
LAST-MODIFIED:20260424T203506Z
LOCATION:Together @ 88 Wood Street\, London EC2V 7QR\, United Kingdom
SEQUENCE:0
STATUS:CONFIRMED
SUMMARY:Shipping Risk Management Europe 2026
TRANSP:OPAQUE
X-ALT-DESC;FMTTYPE=text/html:<p>The Shipping Risk Management Europe confere
 nce is conceived as a one-day\, high-level forum bringing together risk ma
 nagers\, insurance buyers\, insurers\, brokers and legal/technical special
 ists in the marine sector.</p>
BEGIN:VALARM
UID:38663462-6363-4830-b564-353764656230
ACTION:DISPLAY
DESCRIPTION:The Shipping Risk Management Europe conference is conceived as 
 a one-day\, high-level forum bringing together risk managers\, insurance b
 uyers\, insurers\, brokers and legal/technical specialists in the marine s
 ector.
TRIGGER:-P1W
END:VALARM
END:VEVENT
END:VCALENDAR
